BEGIN:VCALENDAR
VERSION:2.0
PRODID:-//hacksw/handcal//NONSGML v1.0//EN
BEGIN:VEVENT
SUMMARY:plongee
UID:8a41e350-356f-40c2-8d19-828d15860afd
DTSTART:20260529T040000Z
DTEND:20260529T070000Z
LOCATION:Localisation   
CATEGORIES:Administratif
STATUS:
URL;VALUE=URI:https://labullelela.sportsregions.fr/evenements/2026/05/29/plongee-2440586
END:VEVENT
END:VCALENDAR
