BEGIN:VCALENDAR
VERSION:2.0
PRODID:-//hacksw/handcal//NONSGML v1.0//EN
BEGIN:VEVENT
SUMMARY:plongee de nuit niveau 1 minimum
UID:2f60c4b4-ba35-46a5-965a-c205cc428778
DTSTART:20260516T153000Z
DTEND:20260516T190000Z
LOCATION:Localisation   
CATEGORIES:Administratif
STATUS:
URL;VALUE=URI:https://labullelela.sportsregions.fr/evenements/2026/05/16/plongee-de-nuit-niveau-1-minimum-2440573
END:VEVENT
END:VCALENDAR
